BEGIN:VCALENDAR
VERSION:2.0
PRODID:-//Friends of Bay County Public Libraries - ECPv6.15.20//NONSGML v1.0//EN
CALSCALE:GREGORIAN
METHOD:PUBLISH
X-WR-CALNAME:Friends of Bay County Public Libraries
X-ORIGINAL-URL:https://baycountylibraryfriends.org
X-WR-CALDESC:Events for Friends of Bay County Public Libraries
REFRESH-INTERVAL;VALUE=DURATION:PT1H
X-Robots-Tag:noindex
X-PUBLISHED-TTL:PT1H
BEGIN:VTIMEZONE
TZID:America/Chicago
BEGIN:DAYLIGHT
TZOFFSETFROM:-0600
TZOFFSETTO:-0500
TZNAME:CDT
DTSTART:20240310T080000
END:DAYLIGHT
BEGIN:STANDARD
TZOFFSETFROM:-0500
TZOFFSETTO:-0600
TZNAME:CST
DTSTART:20241103T070000
END:STANDARD
BEGIN:DAYLIGHT
TZOFFSETFROM:-0600
TZOFFSETTO:-0500
TZNAME:CDT
DTSTART:20250309T080000
END:DAYLIGHT
BEGIN:STANDARD
TZOFFSETFROM:-0500
TZOFFSETTO:-0600
TZNAME:CST
DTSTART:20251102T070000
END:STANDARD
BEGIN:DAYLIGHT
TZOFFSETFROM:-0600
TZOFFSETTO:-0500
TZNAME:CDT
DTSTART:20260308T080000
END:DAYLIGHT
BEGIN:STANDARD
TZOFFSETFROM:-0500
TZOFFSETTO:-0600
TZNAME:CST
DTSTART:20261101T070000
END:STANDARD
END:VTIMEZONE
BEGIN:VEVENT
DTSTART;TZID=America/Chicago:20250320T180000
DTEND;TZID=America/Chicago:20250320T193000
DTSTAMP:20260422T034004
CREATED:20250219T023538Z
LAST-MODIFIED:20250219T023539Z
UID:1149-1742493600-1742499000@baycountylibraryfriends.org
SUMMARY:Friends Annual Celebration
DESCRIPTION:Our Annual Membership Celebration is scheduled for March 20 @ 6 p.m. at the Bay County Public Library. \n\n\n\nJoin us for a concert by Lucky Mud with special guest\, Sierra Everly. The set will be a combination of Lucky Mud’s original Americana folk tunes and several Celtic tunes. Free and open to the public to attend. Program generously sponsored by the Friends of the Bay County Public Libraries. \n\n\n\nThis after hours program is free and open to the public. Light refreshments will be provided. \n\n\n\nA short Friends membership meeting will follow the performance. \n\n\n\nPlease considering become a member of the Friends or donate to help us support the library. \n\n\n\nThe Bay County Public Library is located at 898 W. 11th Street\, Panama City. For more information about the Bay County Writers Fest or other library programming\, call 850-522-2100 or visit www.nwrls.com.
URL:https://baycountylibraryfriends.org/event/friends-annual-celebration/
LOCATION:Bay County Public Library\, 898 West 11th Street\, Panama City\, FL\, 32401\, United States
ATTACH;FMTTYPE=image/png:https://baycountylibraryfriends.org/wp-content/uploads/2025/02/Screenshot-2025-02-18-at-8.31.13 PM.png
END:VEVENT
END:VCALENDAR