BEGIN:VCALENDAR
VERSION:2.0
PRODID:-//Friends of Bay County Public Libraries - ECPv6.15.20//NONSGML v1.0//EN
CALSCALE:GREGORIAN
METHOD:PUBLISH
X-WR-CALNAME:Friends of Bay County Public Libraries
X-ORIGINAL-URL:https://baycountylibraryfriends.org
X-WR-CALDESC:Events for Friends of Bay County Public Libraries
REFRESH-INTERVAL;VALUE=DURATION:PT1H
X-Robots-Tag:noindex
X-PUBLISHED-TTL:PT1H
BEGIN:VTIMEZONE
TZID:America/Chicago
BEGIN:DAYLIGHT
TZOFFSETFROM:-0600
TZOFFSETTO:-0500
TZNAME:CDT
DTSTART:20230312T080000
END:DAYLIGHT
BEGIN:STANDARD
TZOFFSETFROM:-0500
TZOFFSETTO:-0600
TZNAME:CST
DTSTART:20231105T070000
END:STANDARD
BEGIN:DAYLIGHT
TZOFFSETFROM:-0600
TZOFFSETTO:-0500
TZNAME:CDT
DTSTART:20240310T080000
END:DAYLIGHT
BEGIN:STANDARD
TZOFFSETFROM:-0500
TZOFFSETTO:-0600
TZNAME:CST
DTSTART:20241103T070000
END:STANDARD
BEGIN:DAYLIGHT
TZOFFSETFROM:-0600
TZOFFSETTO:-0500
TZNAME:CDT
DTSTART:20250309T080000
END:DAYLIGHT
BEGIN:STANDARD
TZOFFSETFROM:-0500
TZOFFSETTO:-0600
TZNAME:CST
DTSTART:20251102T070000
END:STANDARD
END:VTIMEZONE
BEGIN:VEVENT
DTSTART;TZID=America/Chicago:20240217T180000
DTEND;TZID=America/Chicago:20240217T203000
DTSTAMP:20260423T011305
CREATED:20231204T220227Z
LAST-MODIFIED:20240125T191927Z
UID:1036-1708192800-1708201800@baycountylibraryfriends.org
SUMMARY:Decked Out for Death
DESCRIPTION:Decked Out for Death – Murder Mystery Dinner Fundraiser\n\n\n\nSOLD OUT\n\n\n\nJoin us for a thrilling evening of mystery\, suspense\, and delicious food at the One Thirty One Events by Trigo in Panama City\, FL. Get ready to solve a captivating murder case while enjoying a mouthwatering dinner. \n\n\n\nThe Captain of this chaotic cruise has his hands full! It’s an event that promised love was in the cards\, but the hot tub isn’t working\, the speed dating session got cancelled\, and bingo and shuffleboard seem to be the highlight of the trip. Join the crew and find out what what’s in store for all these singles “looking for love.” They might find it… or they might not! \n\n\n\nCelebrate Valentine’s Day with us and immerse yourself in the world of crime and intrigue. With professional actors from Act4Mystery\, this event promises to keep you on the edge of your seat. \n\n\n\nThere is no set dress code for this event\, but guests are welcome to dress glamorously as if they are on a cruise ship during formal night! \n\n\n\nDon’t miss out on this unforgettable experience! Book your tickets now and prepare to be decked out for death!
URL:https://baycountylibraryfriends.org/event/2024decked/
LOCATION:One Thirty-One Harrison – Events by Trigo\, 131 Harrison Avenue\, Panama City\, Florida\, 32401\, United States
END:VEVENT
END:VCALENDAR