BEGIN:VCALENDAR
VERSION:2.0
PRODID:-//Friends of Bay County Public Libraries - ECPv6.15.20//NONSGML v1.0//EN
CALSCALE:GREGORIAN
METHOD:PUBLISH
X-WR-CALNAME:Friends of Bay County Public Libraries
X-ORIGINAL-URL:https://baycountylibraryfriends.org
X-WR-CALDESC:Events for Friends of Bay County Public Libraries
REFRESH-INTERVAL;VALUE=DURATION:PT1H
X-Robots-Tag:noindex
X-PUBLISHED-TTL:PT1H
BEGIN:VTIMEZONE
TZID:America/Chicago
BEGIN:DAYLIGHT
TZOFFSETFROM:-0600
TZOFFSETTO:-0500
TZNAME:CDT
DTSTART:20170312T080000
END:DAYLIGHT
BEGIN:STANDARD
TZOFFSETFROM:-0500
TZOFFSETTO:-0600
TZNAME:CST
DTSTART:20171105T070000
END:STANDARD
BEGIN:DAYLIGHT
TZOFFSETFROM:-0600
TZOFFSETTO:-0500
TZNAME:CDT
DTSTART:20180311T080000
END:DAYLIGHT
BEGIN:STANDARD
TZOFFSETFROM:-0500
TZOFFSETTO:-0600
TZNAME:CST
DTSTART:20181104T070000
END:STANDARD
BEGIN:DAYLIGHT
TZOFFSETFROM:-0600
TZOFFSETTO:-0500
TZNAME:CDT
DTSTART:20190310T080000
END:DAYLIGHT
BEGIN:STANDARD
TZOFFSETFROM:-0500
TZOFFSETTO:-0600
TZNAME:CST
DTSTART:20191103T070000
END:STANDARD
END:VTIMEZONE
BEGIN:VEVENT
DTSTART;TZID=America/Chicago:20180213T080000
DTEND;TZID=America/Chicago:20180213T080000
DTSTAMP:20260423T062638
CREATED:20180209T062529Z
LAST-MODIFIED:20180209T062529Z
UID:289-1518508800-1518508800@baycountylibraryfriends.org
SUMMARY:African American History Month: Teen Movie Night
DESCRIPTION:Film: Red Tails (2012) Rated PG-13 \nLearn about the brave African American\nTuskegee Airmen during World War II. \nSnacks provided by the Friends of the\nBay County Public Libraries.
URL:https://baycountylibraryfriends.org/event/african-american-history-month-teen-movie-night/
LOCATION:Bay County Public Library\, 898 West 11th Street\, Panama City\, FL\, 32401\, United States
END:VEVENT
END:VCALENDAR