BEGIN:VCALENDAR
VERSION:2.0
PRODID:-//Friends of Bay County Public Libraries - ECPv6.15.20//NONSGML v1.0//EN
CALSCALE:GREGORIAN
METHOD:PUBLISH
X-WR-CALNAME:Friends of Bay County Public Libraries
X-ORIGINAL-URL:https://baycountylibraryfriends.org
X-WR-CALDESC:Events for Friends of Bay County Public Libraries
REFRESH-INTERVAL;VALUE=DURATION:PT1H
X-Robots-Tag:noindex
X-PUBLISHED-TTL:PT1H
BEGIN:VTIMEZONE
TZID:America/Chicago
BEGIN:DAYLIGHT
TZOFFSETFROM:-0600
TZOFFSETTO:-0500
TZNAME:CDT
DTSTART:20220313T080000
END:DAYLIGHT
BEGIN:STANDARD
TZOFFSETFROM:-0500
TZOFFSETTO:-0600
TZNAME:CST
DTSTART:20221106T070000
END:STANDARD
BEGIN:DAYLIGHT
TZOFFSETFROM:-0600
TZOFFSETTO:-0500
TZNAME:CDT
DTSTART:20230312T080000
END:DAYLIGHT
BEGIN:STANDARD
TZOFFSETFROM:-0500
TZOFFSETTO:-0600
TZNAME:CST
DTSTART:20231105T070000
END:STANDARD
BEGIN:DAYLIGHT
TZOFFSETFROM:-0600
TZOFFSETTO:-0500
TZNAME:CDT
DTSTART:20240310T080000
END:DAYLIGHT
BEGIN:STANDARD
TZOFFSETFROM:-0500
TZOFFSETTO:-0600
TZNAME:CST
DTSTART:20241103T070000
END:STANDARD
END:VTIMEZONE
BEGIN:VEVENT
DTSTART;TZID=America/Chicago:20230511T180000
DTEND;TZID=America/Chicago:20230511T193000
DTSTAMP:20260422T235116
CREATED:20221209T112319Z
LAST-MODIFIED:20221209T112656Z
UID:970-1683828000-1683833400@baycountylibraryfriends.org
SUMMARY:Friends Presents Concert Series: Corey Hall
DESCRIPTION:
URL:https://baycountylibraryfriends.org/event/friends-presents-concert-series-corey-hall/
LOCATION:Bay County Public Library\, 898 West 11th Street\, Panama City\, FL\, 32401\, United States
CATEGORIES:Friends Presents Concert Series
END:VEVENT
END:VCALENDAR