BEGIN:VCALENDAR
VERSION:2.0
PRODID:-//Friends of Bay County Public Libraries - ECPv6.15.20//NONSGML v1.0//EN
CALSCALE:GREGORIAN
METHOD:PUBLISH
X-WR-CALNAME:Friends of Bay County Public Libraries
X-ORIGINAL-URL:https://baycountylibraryfriends.org
X-WR-CALDESC:Events for Friends of Bay County Public Libraries
REFRESH-INTERVAL;VALUE=DURATION:PT1H
X-Robots-Tag:noindex
X-PUBLISHED-TTL:PT1H
BEGIN:VTIMEZONE
TZID:America/Chicago
BEGIN:DAYLIGHT
TZOFFSETFROM:-0600
TZOFFSETTO:-0500
TZNAME:CDT
DTSTART:20210314T080000
END:DAYLIGHT
BEGIN:STANDARD
TZOFFSETFROM:-0500
TZOFFSETTO:-0600
TZNAME:CST
DTSTART:20211107T070000
END:STANDARD
BEGIN:DAYLIGHT
TZOFFSETFROM:-0600
TZOFFSETTO:-0500
TZNAME:CDT
DTSTART:20220313T080000
END:DAYLIGHT
BEGIN:STANDARD
TZOFFSETFROM:-0500
TZOFFSETTO:-0600
TZNAME:CST
DTSTART:20221106T070000
END:STANDARD
BEGIN:DAYLIGHT
TZOFFSETFROM:-0600
TZOFFSETTO:-0500
TZNAME:CDT
DTSTART:20230312T080000
END:DAYLIGHT
BEGIN:STANDARD
TZOFFSETFROM:-0500
TZOFFSETTO:-0600
TZNAME:CST
DTSTART:20231105T070000
END:STANDARD
END:VTIMEZONE
BEGIN:VEVENT
DTSTART;TZID=America/Chicago:20220908T180000
DTEND;TZID=America/Chicago:20220908T180000
DTSTAMP:20260423T131942
CREATED:20220211T111120Z
LAST-MODIFIED:20220211T111518Z
UID:891-1662660000-1662660000@baycountylibraryfriends.org
SUMMARY:Friends Presents Concert Series: Kelsey & Tylor
DESCRIPTION:Kelsey and Tylor are a duo known for a hauntingly delicate voice\, paired with earthy guitar playing. Their sound is rooted in folk and Americana music\, which contributes to their unique take on the covers they perform\, as well as the originals Kelsey writes.
URL:https://baycountylibraryfriends.org/event/friends-presents-concert-series-kelsey-tylor/
LOCATION:Bay County Public Library\, 898 West 11th Street\, Panama City\, FL\, 32401\, United States
CATEGORIES:Friends Presents Concert Series
ATTACH;FMTTYPE=image/jpeg:https://baycountylibraryfriends.org/wp-content/uploads/2022/02/Kelsey-and-Tylor-scaled.jpg
END:VEVENT
END:VCALENDAR