BEGIN:VCALENDAR
VERSION:2.0
PRODID:-//Friends of Bay County Public Libraries - ECPv6.15.20//NONSGML v1.0//EN
CALSCALE:GREGORIAN
METHOD:PUBLISH
X-WR-CALNAME:Friends of Bay County Public Libraries
X-ORIGINAL-URL:https://baycountylibraryfriends.org
X-WR-CALDESC:Events for Friends of Bay County Public Libraries
REFRESH-INTERVAL;VALUE=DURATION:PT1H
X-Robots-Tag:noindex
X-PUBLISHED-TTL:PT1H
BEGIN:VTIMEZONE
TZID:America/Chicago
BEGIN:DAYLIGHT
TZOFFSETFROM:-0600
TZOFFSETTO:-0500
TZNAME:CDT
DTSTART:20230312T080000
END:DAYLIGHT
BEGIN:STANDARD
TZOFFSETFROM:-0500
TZOFFSETTO:-0600
TZNAME:CST
DTSTART:20231105T070000
END:STANDARD
BEGIN:DAYLIGHT
TZOFFSETFROM:-0600
TZOFFSETTO:-0500
TZNAME:CDT
DTSTART:20240310T080000
END:DAYLIGHT
BEGIN:STANDARD
TZOFFSETFROM:-0500
TZOFFSETTO:-0600
TZNAME:CST
DTSTART:20241103T070000
END:STANDARD
BEGIN:DAYLIGHT
TZOFFSETFROM:-0600
TZOFFSETTO:-0500
TZNAME:CDT
DTSTART:20250309T080000
END:DAYLIGHT
BEGIN:STANDARD
TZOFFSETFROM:-0500
TZOFFSETTO:-0600
TZNAME:CST
DTSTART:20251102T070000
END:STANDARD
END:VTIMEZONE
BEGIN:VEVENT
DTSTART;TZID=America/Chicago:20240314T180000
DTEND;TZID=America/Chicago:20240314T193000
DTSTAMP:20260423T011306
CREATED:20240125T192709Z
LAST-MODIFIED:20250219T023607Z
UID:1059-1710439200-1710444600@baycountylibraryfriends.org
SUMMARY:Annual Membership Celebration
DESCRIPTION:Our Annual Membership Celebration is scheduled for March 14 @ 6 p.m. at the Bay County Public Library. \n\n\n\nWe’ll begin with an hour’s entertainment: Mountain Sam Wheelock is an authentic part of the heritage of the music and subculture of the southern Appalachians.His knowledge of the region’s music runs deep. A Story and a Song is a one-man production about growing up in the mountains of eastern Tennessee\, the grandson of a convicted moonshiner. The extended Carter Family often played in an aunt’s front yard. The mission is to be respectful of that form while being active in the evolution of roots music. For more information about Sam Wheelock\, visit www.samwheelockmusic.com/. \n\n\n\nThis after hours program is free and open to the public. Light refreshments will be provided. \n\n\n\nA short Friends membership meeting will follow the performance. \n\n\n\nPlease considering become a member of the Friends or donate to help us support the library. \n\n\n\nThe Bay County Public Library is located at 898 W. 11th Street\, Panama City. For more information about the Bay County Writers Fest or other library programming\, call 850-522-2100 or visit www.nwrls.com.
URL:https://baycountylibraryfriends.org/event/annual-membership-celebration/
LOCATION:Bay County Public Library\, 898 West 11th Street\, Panama City\, FL\, 32401\, United States
ATTACH;FMTTYPE=image/jpeg:https://baycountylibraryfriends.org/wp-content/uploads/2024/01/sam-wheelock-1_orig.jpg
END:VEVENT
END:VCALENDAR